BEGIN:VCALENDAR
VERSION:2.0
PRODID:-//필라축구동우회 - ECPv6.15.20//NONSGML v1.0//EN
CALSCALE:GREGORIAN
METHOD:PUBLISH
X-ORIGINAL-URL:https://www.dongwoo-fc.com
X-WR-CALDESC:Events for 필라축구동우회
REFRESH-INTERVAL;VALUE=DURATION:PT1H
X-Robots-Tag:noindex
X-PUBLISHED-TTL:PT1H
BEGIN:VTIMEZONE
TZID:UTC
BEGIN:STANDARD
TZOFFSETFROM:+0000
TZOFFSETTO:+0000
TZNAME:UTC
DTSTART:20250101T000000
END:STANDARD
END:VTIMEZONE
BEGIN:VEVENT
DTSTART;TZID=UTC:20260104T073000
DTEND;TZID=UTC:20260104T090000
DTSTAMP:20260419T161358
CREATED:20251227T185203Z
LAST-MODIFIED:20251227T185205Z
UID:2629-1767511800-1767517200@www.dongwoo-fc.com
SUMMARY:1/4/2026 – 자체연습
DESCRIPTION:
URL:https://www.dongwoo-fc.com/event/1-4-2026-%ec%9e%90%ec%b2%b4%ec%97%b0%ec%8a%b5/
LOCATION:Hatboro-Horsham High School\, 899 Horsham Rd\, Horsham\, Pennsylvania\, 19044\, United States
ATTACH;FMTTYPE=image/jpeg:https://www.dongwoo-fc.com/wp-content/uploads/2025/08/Hatboro-horshamhighschoo.jpeg
END:VEVENT
BEGIN:VEVENT
DTSTART;TZID=UTC:20260111T070000
DTEND;TZID=UTC:20260111T090000
DTSTAMP:20260419T161358
CREATED:20251227T185300Z
LAST-MODIFIED:20260109T153517Z
UID:2631-1768114800-1768122000@www.dongwoo-fc.com
SUMMARY:1/11/2026 – 2026 신년청백전
DESCRIPTION:
URL:https://www.dongwoo-fc.com/event/1-11-2026-%ec%9e%90%ec%b2%b4%ec%97%b0%ec%8a%b5/
LOCATION:Hatboro-Horsham High School\, 899 Horsham Rd\, Horsham\, Pennsylvania\, 19044\, United States
ATTACH;FMTTYPE=image/jpeg:https://www.dongwoo-fc.com/wp-content/uploads/2026/01/2026-신년청백전-레드팀블루팀.jpg
END:VEVENT
BEGIN:VEVENT
DTSTART;TZID=UTC:20260118T073000
DTEND;TZID=UTC:20260118T090000
DTSTAMP:20260419T161358
CREATED:20251227T185354Z
LAST-MODIFIED:20260118T050915Z
UID:2633-1768721400-1768726800@www.dongwoo-fc.com
SUMMARY:1/18/2026 – Cancelled
DESCRIPTION:
URL:https://www.dongwoo-fc.com/event/1-18-2026-%ec%9e%90%ec%b2%b4%ec%97%b0%ec%8a%b5/
LOCATION:Pennsylvania
ATTACH;FMTTYPE=image/jpeg:https://www.dongwoo-fc.com/wp-content/uploads/2025/02/snow-cancelled.jpeg
END:VEVENT
BEGIN:VEVENT
DTSTART;TZID=UTC:20260125T073000
DTEND;TZID=UTC:20260125T090000
DTSTAMP:20260419T161358
CREATED:20251227T185535Z
LAST-MODIFIED:20260124T013803Z
UID:2635-1769326200-1769331600@www.dongwoo-fc.com
SUMMARY:1/25/2026 – Cancelled
DESCRIPTION:
URL:https://www.dongwoo-fc.com/event/1-25-2026-%ec%9e%90%ec%b2%b4%ec%97%b0%ec%8a%b5/
LOCATION:Pennsylvania
ATTACH;FMTTYPE=image/jpeg:https://www.dongwoo-fc.com/wp-content/uploads/2025/02/snow-cancelled.jpeg
END:VEVENT
END:VCALENDAR