BEGIN:VCALENDAR
VERSION:2.0
PRODID:-//필라축구동우회 - ECPv6.15.20//NONSGML v1.0//EN
CALSCALE:GREGORIAN
METHOD:PUBLISH
X-WR-CALNAME:필라축구동우회
X-ORIGINAL-URL:https://www.dongwoo-fc.com
X-WR-CALDESC:Events for 필라축구동우회
REFRESH-INTERVAL;VALUE=DURATION:PT1H
X-Robots-Tag:noindex
X-PUBLISHED-TTL:PT1H
BEGIN:VTIMEZONE
TZID:UTC
BEGIN:STANDARD
TZOFFSETFROM:+0000
TZOFFSETTO:+0000
TZNAME:UTC
DTSTART:20230101T000000
END:STANDARD
END:VTIMEZONE
BEGIN:VEVENT
DTSTART;TZID=UTC:20250706T073000
DTEND;TZID=UTC:20250706T093000
DTSTAMP:20260420T023006
CREATED:20250620T165307Z
LAST-MODIFIED:20250620T170323Z
UID:2341-1751787000-1751794200@www.dongwoo-fc.com
SUMMARY:7/6/2025 – 자체연습
DESCRIPTION:
URL:https://www.dongwoo-fc.com/event/7-6-2025-%ec%9e%90%ec%b2%b4%ec%97%b0%ec%8a%b5/
LOCATION:Pennsylvania
ATTACH;FMTTYPE=image/jpeg:https://www.dongwoo-fc.com/wp-content/uploads/2025/03/Horsham-Soccer-Club730-930.jpg
END:VEVENT
BEGIN:VEVENT
DTSTART;TZID=UTC:20250629T073000
DTEND;TZID=UTC:20250629T093000
DTSTAMP:20260420T023006
CREATED:20250531T013620Z
LAST-MODIFIED:20250531T013627Z
UID:2314-1751182200-1751189400@www.dongwoo-fc.com
SUMMARY:6/29/2025 – 자체연습
DESCRIPTION:
URL:https://www.dongwoo-fc.com/event/6-29-2025-%ec%9e%90%ec%b2%b4%ec%97%b0%ec%8a%b5/
LOCATION:Pennsylvania
ATTACH;FMTTYPE=image/jpeg:https://www.dongwoo-fc.com/wp-content/uploads/2025/03/Horsham-Soccer-Club730-930.jpg
END:VEVENT
BEGIN:VEVENT
DTSTART;TZID=UTC:20250622T073000
DTEND;TZID=UTC:20250622T093000
DTSTAMP:20260420T023006
CREATED:20250531T013211Z
LAST-MODIFIED:20250531T013350Z
UID:2312-1750577400-1750584600@www.dongwoo-fc.com
SUMMARY:6/22/2025 – 자체연습
DESCRIPTION:
URL:https://www.dongwoo-fc.com/event/6-22-2025-%ec%9e%90%ec%b2%b4%ec%97%b0%ec%8a%b5/
LOCATION:Pennsylvania
ATTACH;FMTTYPE=image/jpeg:https://www.dongwoo-fc.com/wp-content/uploads/2025/03/Horsham-Soccer-Club730-930.jpg
END:VEVENT
BEGIN:VEVENT
DTSTART;TZID=UTC:20250615T073000
DTEND;TZID=UTC:20250615T093000
DTSTAMP:20260420T023006
CREATED:20250531T011819Z
LAST-MODIFIED:20250531T011823Z
UID:2310-1749972600-1749979800@www.dongwoo-fc.com
SUMMARY:6/15/2025 – 자체연습
DESCRIPTION:
URL:https://www.dongwoo-fc.com/event/6-15-2025-%ec%9e%90%ec%b2%b4%ec%97%b0%ec%8a%b5/
LOCATION:Horsham Soccer Club\, 1100 Limekiln Pike\, Ambler\, Pennsylvania\, 19002\, United States
ATTACH;FMTTYPE=image/jpeg:https://www.dongwoo-fc.com/wp-content/uploads/2025/03/Horsham-Soccer-Club730-930.jpg
END:VEVENT
BEGIN:VEVENT
DTSTART;TZID=UTC:20250608T070000
DTEND;TZID=UTC:20250608T090000
DTSTAMP:20260420T023006
CREATED:20250410T152710Z
LAST-MODIFIED:20250410T152713Z
UID:2197-1749366000-1749373200@www.dongwoo-fc.com
SUMMARY:6/8/2025 – 자체연습
DESCRIPTION:
URL:https://www.dongwoo-fc.com/event/6-8-2025-%ec%9e%90%ec%b2%b4%ec%97%b0%ec%8a%b5-2/
LOCATION:Horsham Soccer Club\, 1100 Limekiln Pike\, Ambler\, Pennsylvania\, 19002\, United States
ATTACH;FMTTYPE=image/jpeg:https://www.dongwoo-fc.com/wp-content/uploads/2025/03/HorshamSoccerClub1.jpg
END:VEVENT
BEGIN:VEVENT
DTSTART;TZID=UTC:20250601T070000
DTEND;TZID=UTC:20250601T090000
DTSTAMP:20260420T023006
CREATED:20250330T190524Z
LAST-MODIFIED:20250410T152514Z
UID:2155-1748761200-1748768400@www.dongwoo-fc.com
SUMMARY:6/1/2025 – 자체연습
DESCRIPTION:
URL:https://www.dongwoo-fc.com/event/6-1-2025-%ec%9e%90%ec%b2%b4%ec%97%b0%ec%8a%b5/
LOCATION:Horsham Soccer Club\, 1100 Limekiln Pike\, Ambler\, Pennsylvania\, 19002\, United States
ATTACH;FMTTYPE=image/jpeg:https://www.dongwoo-fc.com/wp-content/uploads/2025/03/HorshamSoccerClub1.jpg
END:VEVENT
BEGIN:VEVENT
DTSTART;TZID=UTC:20250525T070000
DTEND;TZID=UTC:20250525T090000
DTSTAMP:20260420T023006
CREATED:20250330T190440Z
LAST-MODIFIED:20250410T152516Z
UID:2153-1748156400-1748163600@www.dongwoo-fc.com
SUMMARY:5/25/2025 – 자체연습
DESCRIPTION:
URL:https://www.dongwoo-fc.com/event/5-25-2025-%ec%9e%90%ec%b2%b4%ec%97%b0%ec%8a%b5/
LOCATION:Horsham Soccer Club\, 1100 Limekiln Pike\, Ambler\, Pennsylvania\, 19002\, United States
ATTACH;FMTTYPE=image/jpeg:https://www.dongwoo-fc.com/wp-content/uploads/2025/03/HorshamSoccerClub1.jpg
END:VEVENT
BEGIN:VEVENT
DTSTART;TZID=UTC:20250518T080000
DTEND;TZID=UTC:20250518T160000
DTSTAMP:20260420T023006
CREATED:20250330T190329Z
LAST-MODIFIED:20250504T182800Z
UID:2151-1747555200-1747584000@www.dongwoo-fc.com
SUMMARY:5/18/2025 – 필라 축구 협회 춘계대회
DESCRIPTION:
URL:https://www.dongwoo-fc.com/event/5-18-2025-%ec%9e%90%ec%b2%b4%ec%97%b0%ec%8a%b5/
LOCATION:Pennsylvania
ATTACH;FMTTYPE=image/png:https://www.dongwoo-fc.com/wp-content/uploads/2025/03/2025년-5월-필라-축구대회.png
END:VEVENT
BEGIN:VEVENT
DTSTART;TZID=UTC:20250511T070000
DTEND;TZID=UTC:20250511T090000
DTSTAMP:20260420T023006
CREATED:20250330T190229Z
LAST-MODIFIED:20250410T152413Z
UID:2149-1746946800-1746954000@www.dongwoo-fc.com
SUMMARY:5/11/2025 – 자체연습
DESCRIPTION:
URL:https://www.dongwoo-fc.com/event/5-11-2025-%ec%9e%90%ec%b2%b4%ec%97%b0%ec%8a%b5/
LOCATION:Horsham Soccer Club\, 1100 Limekiln Pike\, Ambler\, Pennsylvania\, 19002\, United States
ATTACH;FMTTYPE=image/jpeg:https://www.dongwoo-fc.com/wp-content/uploads/2025/03/HorshamSoccerClub1.jpg
END:VEVENT
BEGIN:VEVENT
DTSTART;TZID=UTC:20250504T070000
DTEND;TZID=UTC:20250504T090000
DTSTAMP:20260420T023006
CREATED:20250330T190045Z
LAST-MODIFIED:20250410T152401Z
UID:2147-1746342000-1746349200@www.dongwoo-fc.com
SUMMARY:5/4/2025 – 자체연습
DESCRIPTION:
URL:https://www.dongwoo-fc.com/event/5-4-2025-%ec%9e%90%ec%b2%b4%ec%97%b0%ec%8a%b5/
LOCATION:Horsham Soccer Club\, 1100 Limekiln Pike\, Ambler\, Pennsylvania\, 19002\, United States
ATTACH;FMTTYPE=image/jpeg:https://www.dongwoo-fc.com/wp-content/uploads/2025/03/HorshamSoccerClub1.jpg
END:VEVENT
BEGIN:VEVENT
DTSTART;TZID=UTC:20250427T073000
DTEND;TZID=UTC:20250427T093000
DTSTAMP:20260420T023006
CREATED:20250330T185806Z
LAST-MODIFIED:20250421T161823Z
UID:2145-1745739000-1745746200@www.dongwoo-fc.com
SUMMARY:4/27/2025 – 자체연습
DESCRIPTION:
URL:https://www.dongwoo-fc.com/event/4-27-2025-%ec%9e%90%ec%b2%b4%ec%97%b0%ec%8a%b5/
LOCATION:Horsham Soccer Club\, 1100 Limekiln Pike\, Ambler\, Pennsylvania\, 19002\, United States
ATTACH;FMTTYPE=image/jpeg:https://www.dongwoo-fc.com/wp-content/uploads/2025/03/Horsham-Soccer-Club730-930.jpg
END:VEVENT
BEGIN:VEVENT
DTSTART;TZID=UTC:20250420T070000
DTEND;TZID=UTC:20250420T093000
DTSTAMP:20260420T023006
CREATED:20250311T144402Z
LAST-MODIFIED:20250419T154400Z
UID:2068-1745132400-1745141400@www.dongwoo-fc.com
SUMMARY:4/20/2025 – 동우회 X 타이거즈 교류전
DESCRIPTION:
URL:https://www.dongwoo-fc.com/event/4-20-2025-%ea%b5%90%eb%a5%98%ec%a0%84/
LOCATION:Zehr at Windlestrae\, 123 Windlestrae Zehr Tract\, North Wales\, Pennsylvania\, 19454\, United States
ATTACH;FMTTYPE=image/jpeg:https://www.dongwoo-fc.com/wp-content/uploads/2025/04/100000279.jpeg
END:VEVENT
BEGIN:VEVENT
DTSTART;TZID=UTC:20250413T070000
DTEND;TZID=UTC:20250413T090000
DTSTAMP:20260420T023006
CREATED:20250311T144315Z
LAST-MODIFIED:20250410T151936Z
UID:2065-1744527600-1744534800@www.dongwoo-fc.com
SUMMARY:4/13/2025 – 자체연습
DESCRIPTION:
URL:https://www.dongwoo-fc.com/event/4-13-2025-%ec%9e%90%ec%b2%b4%ec%97%b0%ec%8a%b5/
LOCATION:Horsham Soccer Club\, 1100 Limekiln Pike\, Ambler\, Pennsylvania\, 19002\, United States
ATTACH;FMTTYPE=image/jpeg:https://www.dongwoo-fc.com/wp-content/uploads/2025/03/HorshamSoccerClub1.jpg
END:VEVENT
BEGIN:VEVENT
DTSTART;TZID=UTC:20250406T073000
DTEND;TZID=UTC:20250406T093000
DTSTAMP:20260420T023006
CREATED:20250311T144230Z
LAST-MODIFIED:20250323T155404Z
UID:2063-1743924600-1743931800@www.dongwoo-fc.com
SUMMARY:4/6/2025 – 청백전
DESCRIPTION:
URL:https://www.dongwoo-fc.com/event/4-6-2025-%ec%9e%90%ec%b2%b4%ec%97%b0%ec%8a%b5/
LOCATION:Horsham Soccer Club\, 1100 Limekiln Pike\, Ambler\, Pennsylvania\, 19002\, United States
ATTACH;FMTTYPE=image/jpeg:https://www.dongwoo-fc.com/wp-content/uploads/2025/03/2025년-4월-동우-청백전01.jpeg
END:VEVENT
BEGIN:VEVENT
DTSTART;TZID=UTC:20250330T073000
DTEND;TZID=UTC:20250330T093000
DTSTAMP:20260420T023006
CREATED:20250203T193223Z
LAST-MODIFIED:20250203T193226Z
UID:1985-1743319800-1743327000@www.dongwoo-fc.com
SUMMARY:3/30/2025 – 자체연습
DESCRIPTION:
URL:https://www.dongwoo-fc.com/event/3-30-2025-%ec%9e%90%ec%b2%b4%ec%97%b0%ec%8a%b5/
LOCATION:Horsham Soccer Club\, 1100 Limekiln Pike\, Ambler\, Pennsylvania\, 19002\, United States
ATTACH;FMTTYPE=image/jpeg:https://www.dongwoo-fc.com/wp-content/uploads/2025/01/Horsham-Soccer-Club.jpg
END:VEVENT
BEGIN:VEVENT
DTSTART;TZID=UTC:20250330T070000
DTEND;TZID=UTC:20250330T090000
DTSTAMP:20260420T023006
CREATED:20250330T190615Z
LAST-MODIFIED:20250330T190633Z
UID:2157-1743318000-1743325200@www.dongwoo-fc.com
SUMMARY:6/8/2025 – 자체연습
DESCRIPTION:
URL:https://www.dongwoo-fc.com/event/6-8-2025-%ec%9e%90%ec%b2%b4%ec%97%b0%ec%8a%b5/
LOCATION:Horsham Soccer Club\, 1100 Limekiln Pike\, Ambler\, Pennsylvania\, 19002\, United States
ATTACH;FMTTYPE=image/jpeg:https://www.dongwoo-fc.com/wp-content/uploads/2025/01/Horsham-Soccer-Club.jpg
END:VEVENT
BEGIN:VEVENT
DTSTART;TZID=UTC:20250323T073000
DTEND;TZID=UTC:20250323T093000
DTSTAMP:20260420T023006
CREATED:20250203T193051Z
LAST-MODIFIED:20250203T193114Z
UID:1983-1742715000-1742722200@www.dongwoo-fc.com
SUMMARY:3/23/2025 – 자체연습
DESCRIPTION:
URL:https://www.dongwoo-fc.com/event/3-23-2025-%ec%9e%90%ec%b2%b4%ec%97%b0%ec%8a%b5/
LOCATION:Horsham Soccer Club\, 1100 Limekiln Pike\, Ambler\, Pennsylvania\, 19002\, United States
ATTACH;FMTTYPE=image/jpeg:https://www.dongwoo-fc.com/wp-content/uploads/2025/01/Horsham-Soccer-Club.jpg
END:VEVENT
BEGIN:VEVENT
DTSTART;TZID=UTC:20250316T073000
DTEND;TZID=UTC:20250316T090000
DTSTAMP:20260420T023006
CREATED:20250203T192958Z
LAST-MODIFIED:20250203T193000Z
UID:1981-1742110200-1742115600@www.dongwoo-fc.com
SUMMARY:3/16/2025 – 자체연습
DESCRIPTION:
URL:https://www.dongwoo-fc.com/event/3-16-2025-%ec%9e%90%ec%b2%b4%ec%97%b0%ec%8a%b5/
LOCATION:Horsham Soccer Club\, 1100 Limekiln Pike\, Ambler\, Pennsylvania\, 19002\, United States
ATTACH;FMTTYPE=image/jpeg:https://www.dongwoo-fc.com/wp-content/uploads/2025/01/Horsham-Soccer-Club.jpg
END:VEVENT
BEGIN:VEVENT
DTSTART;TZID=UTC:20250309T073000
DTEND;TZID=UTC:20250309T093000
DTSTAMP:20260420T023006
CREATED:20250203T192852Z
LAST-MODIFIED:20250203T192853Z
UID:1979-1741505400-1741512600@www.dongwoo-fc.com
SUMMARY:3/9/2025 – 자체연습
DESCRIPTION:
URL:https://www.dongwoo-fc.com/event/3-9-2025-%ec%9e%90%ec%b2%b4%ec%97%b0%ec%8a%b5/
LOCATION:Horsham Soccer Club\, 1100 Limekiln Pike\, Ambler\, Pennsylvania\, 19002\, United States
ATTACH;FMTTYPE=image/jpeg:https://www.dongwoo-fc.com/wp-content/uploads/2025/01/Horsham-Soccer-Club.jpg
END:VEVENT
BEGIN:VEVENT
DTSTART;TZID=UTC:20250302T073000
DTEND;TZID=UTC:20250302T093000
DTSTAMP:20260420T023006
CREATED:20250203T192623Z
LAST-MODIFIED:20250203T192717Z
UID:1976-1740900600-1740907800@www.dongwoo-fc.com
SUMMARY:3/2/2025 – 자체연습
DESCRIPTION:
URL:https://www.dongwoo-fc.com/event/3-2-2025-%ec%9e%90%ec%b2%b4%ec%97%b0%ec%8a%b5/
LOCATION:Horsham Soccer Club\, 1100 Limekiln Pike\, Ambler\, Pennsylvania\, 19002\, United States
ATTACH;FMTTYPE=image/jpeg:https://www.dongwoo-fc.com/wp-content/uploads/2025/01/Horsham-Soccer-Club.jpg
END:VEVENT
BEGIN:VEVENT
DTSTART;TZID=UTC:20250223T073000
DTEND;TZID=UTC:20250223T093000
DTSTAMP:20260420T023006
CREATED:20250107T183934Z
LAST-MODIFIED:20250107T183938Z
UID:1824-1740295800-1740303000@www.dongwoo-fc.com
SUMMARY:2/23/2025 – 자체연습
DESCRIPTION:
URL:https://www.dongwoo-fc.com/event/2-23-2025-%ec%9e%90%ec%b2%b4%ec%97%b0%ec%8a%b5/
LOCATION:Horsham Soccer Club\, 1100 Limekiln Pike\, Ambler\, Pennsylvania\, 19002\, United States
ATTACH;FMTTYPE=image/jpeg:https://www.dongwoo-fc.com/wp-content/uploads/2025/01/Horsham-Soccer-Club.jpg
END:VEVENT
BEGIN:VEVENT
DTSTART;TZID=UTC:20250209T073000
DTEND;TZID=UTC:20250209T093000
DTSTAMP:20260420T023006
CREATED:20250107T183514Z
LAST-MODIFIED:20250107T183517Z
UID:1819-1739086200-1739093400@www.dongwoo-fc.com
SUMMARY:2/9/2025 – 자체연습
DESCRIPTION:
URL:https://www.dongwoo-fc.com/event/2-9-2025-%ec%9e%90%ec%b2%b4%ec%97%b0%ec%8a%b5/
LOCATION:Horsham Soccer Club\, 1100 Limekiln Pike\, Ambler\, Pennsylvania\, 19002\, United States
ATTACH;FMTTYPE=image/jpeg:https://www.dongwoo-fc.com/wp-content/uploads/2025/01/Horsham-Soccer-Club.jpg
END:VEVENT
BEGIN:VEVENT
DTSTART;TZID=UTC:20250202T073000
DTEND;TZID=UTC:20250202T093000
DTSTAMP:20260420T023006
CREATED:20250102T193243Z
LAST-MODIFIED:20250107T183155Z
UID:1794-1738481400-1738488600@www.dongwoo-fc.com
SUMMARY:2/2/2025 – 자체연습
DESCRIPTION:
URL:https://www.dongwoo-fc.com/event/2-2-2025-%ec%9e%90%ec%b2%b4%ec%97%b0%ec%8a%b5/
LOCATION:Horsham Soccer Club\, 1100 Limekiln Pike\, Ambler\, Pennsylvania\, 19002\, United States
ATTACH;FMTTYPE=image/jpeg:https://www.dongwoo-fc.com/wp-content/uploads/2025/01/Horsham-Soccer-Club.jpg
END:VEVENT
BEGIN:VEVENT
DTSTART;TZID=UTC:20250119T073000
DTEND;TZID=UTC:20250119T093000
DTSTAMP:20260420T023006
CREATED:20250102T193001Z
LAST-MODIFIED:20250102T193009Z
UID:1790-1737271800-1737279000@www.dongwoo-fc.com
SUMMARY:1/19/2025 – 자체연습
DESCRIPTION:
URL:https://www.dongwoo-fc.com/event/1-19-2025-%ec%9e%90%ec%b2%b4%ec%97%b0%ec%8a%b5/
LOCATION:Horsham Soccer Club\, 1100 Limekiln Pike\, Ambler\, Pennsylvania\, 19002\, United States
ATTACH;FMTTYPE=image/jpeg:https://www.dongwoo-fc.com/wp-content/uploads/2025/01/Horsham-Soccer-Club.jpg
END:VEVENT
BEGIN:VEVENT
DTSTART;TZID=UTC:20250112T073000
DTEND;TZID=UTC:20250112T093000
DTSTAMP:20260420T023006
CREATED:20250102T184542Z
LAST-MODIFIED:20250102T191734Z
UID:1787-1736667000-1736674200@www.dongwoo-fc.com
SUMMARY:1/12/2025 – 자체연습
DESCRIPTION:
URL:https://www.dongwoo-fc.com/event/1-12-2025-%ec%9e%90%ec%b2%b4%ec%97%b0%ec%8a%b5/
LOCATION:Horsham Soccer Club\, 1100 Limekiln Pike\, Ambler\, Pennsylvania\, 19002\, United States
ATTACH;FMTTYPE=image/jpeg:https://www.dongwoo-fc.com/wp-content/uploads/2025/01/Horsham-Soccer-Club.jpg
END:VEVENT
BEGIN:VEVENT
DTSTART;TZID=UTC:20250105T073000
DTEND;TZID=UTC:20250105T093000
DTSTAMP:20260420T023006
CREATED:20241223T182733Z
LAST-MODIFIED:20241224T155804Z
UID:1737-1736062200-1736069400@www.dongwoo-fc.com
SUMMARY:1/5/2025 – 청백전
DESCRIPTION:
URL:https://www.dongwoo-fc.com/event/1-5-2025-%ec%b2%ad%eb%b0%b1%ec%a0%84/
LOCATION:Horsham Soccer Club\, 1100 Limekiln Pike\, Ambler\, Pennsylvania\, 19002\, United States
ATTACH;FMTTYPE=image/jpeg:https://www.dongwoo-fc.com/wp-content/uploads/2024/12/BlueWhite.jpg
END:VEVENT
BEGIN:VEVENT
DTSTART;TZID=UTC:20241229T073000
DTEND;TZID=UTC:20241229T093000
DTSTAMP:20260420T023006
CREATED:20241222T222406Z
LAST-MODIFIED:20241223T182918Z
UID:1627-1735457400-1735464600@www.dongwoo-fc.com
SUMMARY:12/29/2024 - 자체연습
DESCRIPTION:동우회 자체연습
URL:https://www.dongwoo-fc.com/event/12-22-2024/
LOCATION:Horsham Soccer Club\, 1100 Limekiln Pike\, Ambler\, Pennsylvania\, 19002\, United States
END:VEVENT
END:VCALENDAR