BEGIN:VCALENDAR
VERSION:2.0
PRODID:-//필라축구동우회 - ECPv6.15.20//NONSGML v1.0//EN
CALSCALE:GREGORIAN
METHOD:PUBLISH
X-ORIGINAL-URL:https://www.dongwoo-fc.com
X-WR-CALDESC:Events for 필라축구동우회
REFRESH-INTERVAL;VALUE=DURATION:PT1H
X-Robots-Tag:noindex
X-PUBLISHED-TTL:PT1H
BEGIN:VTIMEZONE
TZID:UTC
BEGIN:STANDARD
TZOFFSETFROM:+0000
TZOFFSETTO:+0000
TZNAME:UTC
DTSTART:20250101T000000
END:STANDARD
END:VTIMEZONE
BEGIN:VEVENT
DTSTART;TZID=UTC:20260222T073000
DTEND;TZID=UTC:20260222T090000
DTSTAMP:20260419T174847
CREATED:20260109T193135Z
LAST-MODIFIED:20260222T215454Z
UID:2654-1771745400-1771750800@www.dongwoo-fc.com
SUMMARY:2/22/2026 - 자체연습
DESCRIPTION:
URL:https://www.dongwoo-fc.com/event/2-22-2026-%ec%9e%90%ec%b2%b4%ec%97%b0%ec%8a%b5/
LOCATION:Hatboro-Horsham High School\, 899 Horsham Rd\, Horsham\, Pennsylvania\, 19044\, United States
ATTACH;FMTTYPE=image/jpeg:https://www.dongwoo-fc.com/wp-content/uploads/2026/01/hatboro-horsham.jpeg
END:VEVENT
BEGIN:VEVENT
DTSTART;TZID=UTC:20260301T073000
DTEND;TZID=UTC:20260301T090000
DTSTAMP:20260419T174847
CREATED:20260211T231819Z
LAST-MODIFIED:20260211T233211Z
UID:2685-1772350200-1772355600@www.dongwoo-fc.com
SUMMARY:3/1/2026 - 자체연습
DESCRIPTION:
URL:https://www.dongwoo-fc.com/event/3-1-2026-%ec%9e%90%ec%b2%b4%ec%97%b0%ec%8a%b5/
LOCATION:Hatboro-Horsham High School\, 899 Horsham Rd\, Horsham\, Pennsylvania\, 19044\, United States
ATTACH;FMTTYPE=image/jpeg:https://www.dongwoo-fc.com/wp-content/uploads/2026/01/hatboro-horsham.jpeg
END:VEVENT
BEGIN:VEVENT
DTSTART;TZID=UTC:20260308T073000
DTEND;TZID=UTC:20260308T090000
DTSTAMP:20260419T174847
CREATED:20260211T231915Z
LAST-MODIFIED:20260211T233217Z
UID:2687-1772955000-1772960400@www.dongwoo-fc.com
SUMMARY:3/8/2026 - 자체연습
DESCRIPTION:
URL:https://www.dongwoo-fc.com/event/3-8-2026-%ec%9e%90%ec%b2%b4%ec%97%b0%ec%8a%b5/
LOCATION:Hatboro-Horsham High School\, 899 Horsham Rd\, Horsham\, Pennsylvania\, 19044\, United States
ATTACH;FMTTYPE=image/jpeg:https://www.dongwoo-fc.com/wp-content/uploads/2026/01/hatboro-horsham.jpeg
END:VEVENT
BEGIN:VEVENT
DTSTART;TZID=UTC:20260315T073000
DTEND;TZID=UTC:20260315T090000
DTSTAMP:20260419T174847
CREATED:20260211T232022Z
LAST-MODIFIED:20260211T233225Z
UID:2689-1773559800-1773565200@www.dongwoo-fc.com
SUMMARY:3/15/2026 - 자체연습
DESCRIPTION:
URL:https://www.dongwoo-fc.com/event/3-15-2026-%ec%9e%90%ec%b2%b4%ec%97%b0%ec%8a%b5/
LOCATION:Hatboro-Horsham High School\, 899 Horsham Rd\, Horsham\, Pennsylvania\, 19044\, United States
ATTACH;FMTTYPE=image/jpeg:https://www.dongwoo-fc.com/wp-content/uploads/2026/01/hatboro-horsham.jpeg
END:VEVENT
BEGIN:VEVENT
DTSTART;TZID=UTC:20260322T073000
DTEND;TZID=UTC:20260322T090000
DTSTAMP:20260419T174847
CREATED:20260211T232107Z
LAST-MODIFIED:20260211T233235Z
UID:2691-1774164600-1774170000@www.dongwoo-fc.com
SUMMARY:3/22/2026 - 자체연습
DESCRIPTION:
URL:https://www.dongwoo-fc.com/event/3-22-2026-%ec%9e%90%ec%b2%b4%ec%97%b0%ec%8a%b5/
LOCATION:Hatboro-Horsham High School\, 899 Horsham Rd\, Horsham\, Pennsylvania\, 19044\, United States
ATTACH;FMTTYPE=image/jpeg:https://www.dongwoo-fc.com/wp-content/uploads/2026/01/hatboro-horsham.jpeg
END:VEVENT
BEGIN:VEVENT
DTSTART;TZID=UTC:20260329T073000
DTEND;TZID=UTC:20260329T090000
DTSTAMP:20260419T174847
CREATED:20260211T232225Z
LAST-MODIFIED:20260211T233242Z
UID:2693-1774769400-1774774800@www.dongwoo-fc.com
SUMMARY:3/29/2026 - 자체연습
DESCRIPTION:
URL:https://www.dongwoo-fc.com/event/3-29-2026-%ec%9e%90%ec%b2%b4%ec%97%b0%ec%8a%b5/
LOCATION:Hatboro-Horsham High School\, 899 Horsham Rd\, Horsham\, Pennsylvania\, 19044\, United States
ATTACH;FMTTYPE=image/jpeg:https://www.dongwoo-fc.com/wp-content/uploads/2026/01/hatboro-horsham.jpeg
END:VEVENT
BEGIN:VEVENT
DTSTART;TZID=UTC:20260405T073000
DTEND;TZID=UTC:20260405T090000
DTSTAMP:20260419T174847
CREATED:20260403T133927Z
LAST-MODIFIED:20260403T133929Z
UID:2733-1775374200-1775379600@www.dongwoo-fc.com
SUMMARY:4/5/2026 – 자체연습
DESCRIPTION:
URL:https://www.dongwoo-fc.com/event/4-5-2026-%ec%9e%90%ec%b2%b4%ec%97%b0%ec%8a%b5/
LOCATION:Hatboro-Horsham High School\, 899 Horsham Rd\, Horsham\, Pennsylvania\, 19044\, United States
ATTACH;FMTTYPE=image/jpeg:https://www.dongwoo-fc.com/wp-content/uploads/2026/01/hatboro-horsham.jpeg
END:VEVENT
BEGIN:VEVENT
DTSTART;TZID=UTC:20260412T073000
DTEND;TZID=UTC:20260412T090000
DTSTAMP:20260419T174847
CREATED:20260403T134021Z
LAST-MODIFIED:20260411T173356Z
UID:2735-1775979000-1775984400@www.dongwoo-fc.com
SUMMARY:4/12/2026 – 형제팀 교류전
DESCRIPTION:
URL:https://www.dongwoo-fc.com/event/4-12-2026-%ec%9e%90%ec%b2%b4%ec%97%b0%ec%8a%b5/
LOCATION:Abington Memorial Field\, 1111 Huntington Rd.\, Abington\, Pennsylvania\, 19001\, United States
ATTACH;FMTTYPE=image/jpeg:https://www.dongwoo-fc.com/wp-content/uploads/2026/04/100000831.jpeg
END:VEVENT
BEGIN:VEVENT
DTSTART;TZID=UTC:20260419T073000
DTEND;TZID=UTC:20260419T090000
DTSTAMP:20260419T174847
CREATED:20260403T134125Z
LAST-MODIFIED:20260418T185712Z
UID:2737-1776583800-1776589200@www.dongwoo-fc.com
SUMMARY:4/19/2026 – 자체연습
DESCRIPTION:
URL:https://www.dongwoo-fc.com/event/4-19-2026-%ec%9e%90%ec%b2%b4%ec%97%b0%ec%8a%b5/
LOCATION:Hatboro-Horsham High School\, 899 Horsham Rd\, Horsham\, Pennsylvania\, 19044\, United States
ATTACH;FMTTYPE=image/jpeg:https://www.dongwoo-fc.com/wp-content/uploads/2026/01/hatboro-horsham.jpeg
END:VEVENT
BEGIN:VEVENT
DTSTART;TZID=UTC:20260426T073000
DTEND;TZID=UTC:20260426T090000
DTSTAMP:20260419T174847
CREATED:20260403T134214Z
LAST-MODIFIED:20260403T134216Z
UID:2739-1777188600-1777194000@www.dongwoo-fc.com
SUMMARY:4/26/2026 – 자체연습
DESCRIPTION:
URL:https://www.dongwoo-fc.com/event/4-26-2026-%ec%9e%90%ec%b2%b4%ec%97%b0%ec%8a%b5/
LOCATION:Hatboro-Horsham High School\, 899 Horsham Rd\, Horsham\, Pennsylvania\, 19044\, United States
ATTACH;FMTTYPE=image/jpeg:https://www.dongwoo-fc.com/wp-content/uploads/2026/01/hatboro-horsham.jpeg
END:VEVENT
BEGIN:VEVENT
DTSTART;TZID=UTC:20260503T073000
DTEND;TZID=UTC:20260503T090000
DTSTAMP:20260419T174847
CREATED:20260403T134300Z
LAST-MODIFIED:20260403T134303Z
UID:2741-1777793400-1777798800@www.dongwoo-fc.com
SUMMARY:5/3/2026 – 자체연습
DESCRIPTION:
URL:https://www.dongwoo-fc.com/event/5-3-2026-%ec%9e%90%ec%b2%b4%ec%97%b0%ec%8a%b5/
LOCATION:Hatboro-Horsham High School\, 899 Horsham Rd\, Horsham\, Pennsylvania\, 19044\, United States
ATTACH;FMTTYPE=image/jpeg:https://www.dongwoo-fc.com/wp-content/uploads/2026/01/hatboro-horsham.jpeg
END:VEVENT
BEGIN:VEVENT
DTSTART;TZID=UTC:20260510T073000
DTEND;TZID=UTC:20260510T090000
DTSTAMP:20260419T174847
CREATED:20260403T134349Z
LAST-MODIFIED:20260403T134351Z
UID:2744-1778398200-1778403600@www.dongwoo-fc.com
SUMMARY:5/10/2026 – 자체연습
DESCRIPTION:
URL:https://www.dongwoo-fc.com/event/5-10-2026-%ec%9e%90%ec%b2%b4%ec%97%b0%ec%8a%b5/
LOCATION:Hatboro-Horsham High School\, 899 Horsham Rd\, Horsham\, Pennsylvania\, 19044\, United States
ATTACH;FMTTYPE=image/jpeg:https://www.dongwoo-fc.com/wp-content/uploads/2026/01/hatboro-horsham.jpeg
END:VEVENT
BEGIN:VEVENT
DTSTART;TZID=UTC:20260517T073000
DTEND;TZID=UTC:20260517T090000
DTSTAMP:20260419T174847
CREATED:20260403T135603Z
LAST-MODIFIED:20260403T135606Z
UID:2746-1779003000-1779008400@www.dongwoo-fc.com
SUMMARY:5/17/2026 – 자체연습
DESCRIPTION:
URL:https://www.dongwoo-fc.com/event/5-17-2026-%ec%9e%90%ec%b2%b4%ec%97%b0%ec%8a%b5/
LOCATION:Hatboro-Horsham High School\, 899 Horsham Rd\, Horsham\, Pennsylvania\, 19044\, United States
ATTACH;FMTTYPE=image/jpeg:https://www.dongwoo-fc.com/wp-content/uploads/2026/01/hatboro-horsham.jpeg
END:VEVENT
BEGIN:VEVENT
DTSTART;TZID=UTC:20260524T073000
DTEND;TZID=UTC:20260524T090000
DTSTAMP:20260419T174847
CREATED:20260403T135701Z
LAST-MODIFIED:20260403T135704Z
UID:2749-1779607800-1779613200@www.dongwoo-fc.com
SUMMARY:5/24/2026 – 자체연습
DESCRIPTION:
URL:https://www.dongwoo-fc.com/event/5-24-2026-%ec%9e%90%ec%b2%b4%ec%97%b0%ec%8a%b5/
LOCATION:Hatboro-Horsham High School\, 899 Horsham Rd\, Horsham\, Pennsylvania\, 19044\, United States
ATTACH;FMTTYPE=image/jpeg:https://www.dongwoo-fc.com/wp-content/uploads/2026/01/hatboro-horsham.jpeg
END:VEVENT
BEGIN:VEVENT
DTSTART;TZID=UTC:20260531T073000
DTEND;TZID=UTC:20260531T090000
DTSTAMP:20260419T174847
CREATED:20260403T172012Z
LAST-MODIFIED:20260411T173304Z
UID:2751-1780212600-1780218000@www.dongwoo-fc.com
SUMMARY:5/31/2026 – 자체연습
DESCRIPTION:
URL:https://www.dongwoo-fc.com/event/5-31-2026-%ec%9e%90%ec%b2%b4%ec%97%b0%ec%8a%b5/
LOCATION:Hatboro-Horsham High School\, 899 Horsham Rd\, Horsham\, Pennsylvania\, 19044\, United States
ATTACH;FMTTYPE=image/jpeg:https://www.dongwoo-fc.com/wp-content/uploads/2026/01/hatboro-horsham.jpeg
END:VEVENT
END:VCALENDAR