BEGIN:VCALENDAR
VERSION:2.0
PRODID:-//필라축구동우회 - ECPv6.15.20//NONSGML v1.0//EN
CALSCALE:GREGORIAN
METHOD:PUBLISH
X-ORIGINAL-URL:https://www.dongwoo-fc.com
X-WR-CALDESC:Events for 필라축구동우회
REFRESH-INTERVAL;VALUE=DURATION:PT1H
X-Robots-Tag:noindex
X-PUBLISHED-TTL:PT1H
BEGIN:VTIMEZONE
TZID:UTC
BEGIN:STANDARD
TZOFFSETFROM:+0000
TZOFFSETTO:+0000
TZNAME:UTC
DTSTART:20240101T000000
END:STANDARD
END:VTIMEZONE
BEGIN:VEVENT
DTSTART;TZID=UTC:20251228T073000
DTEND;TZID=UTC:20251228T090000
DTSTAMP:20260419T233541
CREATED:20251110T202408Z
LAST-MODIFIED:20251227T182440Z
UID:2578-1766907000-1766912400@www.dongwoo-fc.com
SUMMARY:12/28/2025 – Cancelled
DESCRIPTION:
URL:https://www.dongwoo-fc.com/event/12-28-2025-%ec%9e%90%ec%b2%b4%ec%97%b0%ec%8a%b5/
LOCATION:Hatboro-Horsham High School\, 899 Horsham Rd\, Horsham\, Pennsylvania\, 19044\, United States
ATTACH;FMTTYPE=image/jpeg:https://www.dongwoo-fc.com/wp-content/uploads/2025/02/snow-cancelled.jpeg
END:VEVENT
END:VCALENDAR